BEGIN:VCALENDAR
VERSION:2.0
PRODID:-//Huron Shores - ECPv6.15.20//NONSGML v1.0//EN
CALSCALE:GREGORIAN
METHOD:PUBLISH
X-WR-CALNAME:Huron Shores
X-ORIGINAL-URL:https://huronshoresgolfclub.com
X-WR-CALDESC:Events for Huron Shores
REFRESH-INTERVAL;VALUE=DURATION:PT1H
X-Robots-Tag:noindex
X-PUBLISHED-TTL:PT1H
BEGIN:VTIMEZONE
TZID:America/Toronto
BEGIN:DAYLIGHT
TZOFFSETFROM:-0500
TZOFFSETTO:-0400
TZNAME:EDT
DTSTART:20230312T070000
END:DAYLIGHT
BEGIN:STANDARD
TZOFFSETFROM:-0400
TZOFFSETTO:-0500
TZNAME:EST
DTSTART:20231105T060000
END:STANDARD
BEGIN:DAYLIGHT
TZOFFSETFROM:-0500
TZOFFSETTO:-0400
TZNAME:EDT
DTSTART:20240310T070000
END:DAYLIGHT
BEGIN:STANDARD
TZOFFSETFROM:-0400
TZOFFSETTO:-0500
TZNAME:EST
DTSTART:20241103T060000
END:STANDARD
BEGIN:DAYLIGHT
TZOFFSETFROM:-0500
TZOFFSETTO:-0400
TZNAME:EDT
DTSTART:20250309T070000
END:DAYLIGHT
BEGIN:STANDARD
TZOFFSETFROM:-0400
TZOFFSETTO:-0500
TZNAME:EST
DTSTART:20251102T060000
END:STANDARD
END:VTIMEZONE
BEGIN:VEVENT
DTSTART;TZID=America/Toronto:20240915T130000
DTEND;TZID=America/Toronto:20240915T180000
DTSTAMP:20260425T074718
CREATED:20240624T211426Z
LAST-MODIFIED:20240721T170922Z
UID:5944-1726405200-1726423200@huronshoresgolfclub.com
SUMMARY:Cros-Lex Pioneers Class of '25
DESCRIPTION:Cros-Lex Pioneers Class of ’25 Graduation Party Fundraiser Golf Scramble\nGet your team ready and help fundraise for the Class of 2025.\n1 pm Shotgun Start\nRaffle-50/50-Putting Contest\nVegas Hole-Long Drive\nClosest to the Pin \n$75/Person\n$300/Team \n 
URL:https://huronshoresgolfclub.com/event/cros-lex-pioneers-class-of-25/
ATTACH;FMTTYPE=image/jpeg:https://huronshoresgolfclub.com/wp-content/uploads/2024/06/Cros-Lex-Pioneers.jpeg
END:VEVENT
END:VCALENDAR