BEGIN:VCALENDAR
VERSION:2.0
PRODID:-//Huron Shores - ECPv6.15.20//NONSGML v1.0//EN
CALSCALE:GREGORIAN
METHOD:PUBLISH
X-ORIGINAL-URL:https://huronshoresgolfclub.com
X-WR-CALDESC:Events for Huron Shores
REFRESH-INTERVAL;VALUE=DURATION:PT1H
X-Robots-Tag:noindex
X-PUBLISHED-TTL:PT1H
BEGIN:VTIMEZONE
TZID:America/Toronto
BEGIN:DAYLIGHT
TZOFFSETFROM:-0500
TZOFFSETTO:-0400
TZNAME:EDT
DTSTART:20240310T070000
END:DAYLIGHT
BEGIN:STANDARD
TZOFFSETFROM:-0400
TZOFFSETTO:-0500
TZNAME:EST
DTSTART:20241103T060000
END:STANDARD
BEGIN:DAYLIGHT
TZOFFSETFROM:-0500
TZOFFSETTO:-0400
TZNAME:EDT
DTSTART:20250309T070000
END:DAYLIGHT
BEGIN:STANDARD
TZOFFSETFROM:-0400
TZOFFSETTO:-0500
TZNAME:EST
DTSTART:20251102T060000
END:STANDARD
BEGIN:DAYLIGHT
TZOFFSETFROM:-0500
TZOFFSETTO:-0400
TZNAME:EDT
DTSTART:20260308T070000
END:DAYLIGHT
BEGIN:STANDARD
TZOFFSETFROM:-0400
TZOFFSETTO:-0500
TZNAME:EST
DTSTART:20261101T060000
END:STANDARD
END:VTIMEZONE
BEGIN:VEVENT
DTSTART;TZID=America/Toronto:20250503T080000
DTEND;TZID=America/Toronto:20250503T170000
DTSTAMP:20260424T062901
CREATED:20250128T213314Z
LAST-MODIFIED:20250428T192650Z
UID:5885-1746259200-1746291600@huronshoresgolfclub.com
SUMMARY:Port Sanilac Volunteer Fire Association
DESCRIPTION:The annual Port Sanilac Volunteer Firefighter Association Golf Scramble is happening this Saturday\, May 3rd \nRegistration to begin at 12 pm with a Shotgun start at 1 pm \nThanks for your help in supporting our first responders… \n$75 per player ($300 per team) \nAny questions contact Doug Moran 810.404.0253 \n  \n \n  \n 
URL:https://huronshoresgolfclub.com/event/port-sanilac-volunteer-fire-association/
ATTACH;FMTTYPE=image/png:https://huronshoresgolfclub.com/wp-content/uploads/2024/03/Screenshot-2024-03-14-111743-e1774014857122.png
END:VEVENT
BEGIN:VEVENT
DTSTART;TZID=America/Toronto:20250516T080000
DTEND;TZID=America/Toronto:20250516T120000
DTSTAMP:20260424T062901
CREATED:20240227T165000Z
LAST-MODIFIED:20250210T164541Z
UID:5792-1747382400-1747396800@huronshoresgolfclub.com
SUMMARY:Duffers League Starts
DESCRIPTION:2025 Duffer Golf League Brochure \n\nLeague play begins Friday\, May 16th \nSign-in at 8:00 AM \nShotgun Start at 8:30 AM \nOpen to all who want to play! Must\nconfirm attendance by Wednesday of\neach week for scheduling of tee\ntimes. \nContact: Brad Yocca \nCell: 248-210-3064 \nEmail: byocca@sbcglobal.net
URL:https://huronshoresgolfclub.com/event/duffers-league-starts/
ATTACH;FMTTYPE=image/jpeg:https://huronshoresgolfclub.com/wp-content/uploads/2024/02/Duffer-ball.jpg
END:VEVENT
BEGIN:VEVENT
DTSTART;TZID=America/Toronto:20250531T120000
DTEND;TZID=America/Toronto:20250531T180000
DTSTAMP:20260424T062901
CREATED:20250418T205902Z
LAST-MODIFIED:20250428T193837Z
UID:6271-1748692800-1748714400@huronshoresgolfclub.com
SUMMARY:Cros-Lex Golf Scramble
DESCRIPTION:Come on out and help support the Croswell-Lexington Pioneers Golf Team. \n4 – Person Scramble  Registration begins at 12 noon\, Shotgun start at 1 pm.  $300 per team Proceeds from this event to benefit the Croswell-Lexington Pioneers Golf Team. \nContact Coach Shovan @ (907) 205-7542 or Sherri Draggoo @ (810) 304-7210 with any questions \nClick Here for Flyer
URL:https://huronshoresgolfclub.com/event/cros-lex-golf-scramble/
ATTACH;FMTTYPE=image/png:https://huronshoresgolfclub.com/wp-content/uploads/2025/04/Golf-Logo.png
END:VEVENT
END:VCALENDAR