BEGIN:VCALENDAR
VERSION:2.0
PRODID:-//Huron Shores - ECPv6.15.20//NONSGML v1.0//EN
CALSCALE:GREGORIAN
METHOD:PUBLISH
X-WR-CALNAME:Huron Shores
X-ORIGINAL-URL:https://huronshoresgolfclub.com
X-WR-CALDESC:Events for Huron Shores
REFRESH-INTERVAL;VALUE=DURATION:PT1H
X-Robots-Tag:noindex
X-PUBLISHED-TTL:PT1H
BEGIN:VTIMEZONE
TZID:America/Toronto
BEGIN:DAYLIGHT
TZOFFSETFROM:-0500
TZOFFSETTO:-0400
TZNAME:EDT
DTSTART:20240310T070000
END:DAYLIGHT
BEGIN:STANDARD
TZOFFSETFROM:-0400
TZOFFSETTO:-0500
TZNAME:EST
DTSTART:20241103T060000
END:STANDARD
BEGIN:DAYLIGHT
TZOFFSETFROM:-0500
TZOFFSETTO:-0400
TZNAME:EDT
DTSTART:20250309T070000
END:DAYLIGHT
BEGIN:STANDARD
TZOFFSETFROM:-0400
TZOFFSETTO:-0500
TZNAME:EST
DTSTART:20251102T060000
END:STANDARD
BEGIN:DAYLIGHT
TZOFFSETFROM:-0500
TZOFFSETTO:-0400
TZNAME:EDT
DTSTART:20260308T070000
END:DAYLIGHT
BEGIN:STANDARD
TZOFFSETFROM:-0400
TZOFFSETTO:-0500
TZNAME:EST
DTSTART:20261101T060000
END:STANDARD
END:VTIMEZONE
BEGIN:VEVENT
DTSTART;VALUE=DATE:20250325
DTEND;VALUE=DATE:20250407
DTSTAMP:20260424T114358
CREATED:20250319T183823Z
LAST-MODIFIED:20250319T183823Z
UID:6233-1742860800-1743983999@huronshoresgolfclub.com
SUMMARY:Closed
DESCRIPTION:
URL:https://huronshoresgolfclub.com/event/closed/
END:VEVENT
BEGIN:VEVENT
DTSTART;TZID=America/Toronto:20250416T170000
DTEND;TZID=America/Toronto:20250416T200000
DTSTAMP:20260424T114358
CREATED:20240307T151855Z
LAST-MODIFIED:20250323T122617Z
UID:5837-1744822800-1744833600@huronshoresgolfclub.com
SUMMARY:League's Sign Up
DESCRIPTION:All Leagues information and sign up night.\nWednesday\, April 16\n5 – 8 pm\n 
URL:https://huronshoresgolfclub.com/event/leagues-sign-up/
LOCATION:Huron Shores Golf Course\, 1441 N Lakeshore Rd\, Pt Sanilac\, MI\, 48469\, United States
ATTACH;FMTTYPE=image/jpeg:https://huronshoresgolfclub.com/wp-content/uploads/2024/03/Golf-League.jpg
END:VEVENT
END:VCALENDAR