BEGIN:VCALENDAR
VERSION:2.0
PRODID:-//Huron Shores - ECPv6.15.20//NONSGML v1.0//EN
CALSCALE:GREGORIAN
METHOD:PUBLISH
X-ORIGINAL-URL:https://huronshoresgolfclub.com
X-WR-CALDESC:Events for Huron Shores
REFRESH-INTERVAL;VALUE=DURATION:PT1H
X-Robots-Tag:noindex
X-PUBLISHED-TTL:PT1H
BEGIN:VTIMEZONE
TZID:America/Toronto
BEGIN:DAYLIGHT
TZOFFSETFROM:-0500
TZOFFSETTO:-0400
TZNAME:EDT
DTSTART:20220313T070000
END:DAYLIGHT
BEGIN:STANDARD
TZOFFSETFROM:-0400
TZOFFSETTO:-0500
TZNAME:EST
DTSTART:20221106T060000
END:STANDARD
BEGIN:DAYLIGHT
TZOFFSETFROM:-0500
TZOFFSETTO:-0400
TZNAME:EDT
DTSTART:20230312T070000
END:DAYLIGHT
BEGIN:STANDARD
TZOFFSETFROM:-0400
TZOFFSETTO:-0500
TZNAME:EST
DTSTART:20231105T060000
END:STANDARD
BEGIN:DAYLIGHT
TZOFFSETFROM:-0500
TZOFFSETTO:-0400
TZNAME:EDT
DTSTART:20240310T070000
END:DAYLIGHT
BEGIN:STANDARD
TZOFFSETFROM:-0400
TZOFFSETTO:-0500
TZNAME:EST
DTSTART:20241103T060000
END:STANDARD
END:VTIMEZONE
BEGIN:VEVENT
DTSTART;TZID=America/Toronto:20231026T180000
DTEND;TZID=America/Toronto:20231026T200000
DTSTAMP:20260425T235501
CREATED:20230716T121212Z
LAST-MODIFIED:20231008T140240Z
UID:5594-1698343200-1698350400@huronshoresgolfclub.com
SUMMARY:Wine Tasting
DESCRIPTION:Enjoy the taste of 5 wines that are perfect for the holidays and cold weather months. \nLimited space\, reserve your spot by Monday\, October 23 \nCall us at 810.622.9961 to reserve your spot. \n  \nWine Tasting 10-25-23 \n  \n 
URL:https://huronshoresgolfclub.com/event/august-wine-tasting/
ATTACH;FMTTYPE=image/png:https://huronshoresgolfclub.com/wp-content/uploads/2023/05/wine-tasting.png
END:VEVENT
BEGIN:VEVENT
DTSTART;TZID=America/Toronto:20231028T110000
DTEND;TZID=America/Toronto:20231028T170000
DTSTAMP:20260425T235501
CREATED:20231008T143946Z
LAST-MODIFIED:20231009T135949Z
UID:5617-1698490800-1698512400@huronshoresgolfclub.com
SUMMARY:Chilly Open
DESCRIPTION:4 Person Scramble\, 11 AM Shotgun start \n18 Holes of golf cart included\, chili\, hot dogs and brats and a limited edition polo shirt!! \nSponsorship opportunities available. \nChili competition will be a blind tasting conducted during dinner following the outing. \nAll proceeds to benefit GLADIATORS WEAR PINK\, a cancer support fund within the Sanilac County Community Foundation. \n  \nCHILLY OPEN FLYER_pdf \n  \nChilly Open Sponsorship \n  \n                             
URL:https://huronshoresgolfclub.com/event/chilly-open/
END:VEVENT
END:VCALENDAR