BEGIN:VCALENDAR
VERSION:2.0
PRODID:-//Huron Shores - ECPv6.15.20//NONSGML v1.0//EN
CALSCALE:GREGORIAN
METHOD:PUBLISH
X-ORIGINAL-URL:https://huronshoresgolfclub.com
X-WR-CALDESC:Events for Huron Shores
REFRESH-INTERVAL;VALUE=DURATION:PT1H
X-Robots-Tag:noindex
X-PUBLISHED-TTL:PT1H
BEGIN:VTIMEZONE
TZID:America/Toronto
BEGIN:DAYLIGHT
TZOFFSETFROM:-0500
TZOFFSETTO:-0400
TZNAME:EDT
DTSTART:20190310T070000
END:DAYLIGHT
BEGIN:STANDARD
TZOFFSETFROM:-0400
TZOFFSETTO:-0500
TZNAME:EST
DTSTART:20191103T060000
END:STANDARD
BEGIN:DAYLIGHT
TZOFFSETFROM:-0500
TZOFFSETTO:-0400
TZNAME:EDT
DTSTART:20200308T070000
END:DAYLIGHT
BEGIN:STANDARD
TZOFFSETFROM:-0400
TZOFFSETTO:-0500
TZNAME:EST
DTSTART:20201101T060000
END:STANDARD
BEGIN:DAYLIGHT
TZOFFSETFROM:-0500
TZOFFSETTO:-0400
TZNAME:EDT
DTSTART:20210314T070000
END:DAYLIGHT
BEGIN:STANDARD
TZOFFSETFROM:-0400
TZOFFSETTO:-0500
TZNAME:EST
DTSTART:20211107T060000
END:STANDARD
BEGIN:DAYLIGHT
TZOFFSETFROM:-0500
TZOFFSETTO:-0400
TZNAME:EDT
DTSTART:20220313T070000
END:DAYLIGHT
BEGIN:STANDARD
TZOFFSETFROM:-0400
TZOFFSETTO:-0500
TZNAME:EST
DTSTART:20221106T060000
END:STANDARD
END:VTIMEZONE
BEGIN:VEVENT
DTSTART;TZID=America/Toronto:20210501T130000
DTEND;TZID=America/Toronto:20210501T160000
DTSTAMP:20260423T193555
CREATED:20210414T185337Z
LAST-MODIFIED:20210414T191200Z
UID:5087-1619874000-1619884800@huronshoresgolfclub.com
SUMMARY:Course Clean Up and Soup/Chili Contest
DESCRIPTION:Soup and Chili Contest\nCourse Spring Clean Up\nSaturday\, May 01\, 2021 \nCome join us as we work together to clean up the course for the season. \nClean up begins at 1 pm on Saturday\, May 01\, 2021. Bring your yard tools and gloves (shovels\, rakes\, pruning sheers\, hoes\, trimmers\, etc). \nWe will work beside each other to get the flower beds and yard cleaned up and ready for the golfing season. Dress for the weather as we will be outside sprucing up and cleaning up the course. \nWinter is hard on things so we welcome and appreciate it if you would join us to make Huron Shores Golf Course beautiful. \nWant to join in the Chili and Soup contest?  \nMake your best recipe and bring it when you arrive so it can simmer while we are outside working.   \nNot coming to the Spring Clean Up Day but want to enter our soup or chili in the contest – entry is just $5.00 per dish. All proceeds going to a charity whose name will be drawn during the event.  \nIf you are helping during the Spring Clean Up Day – NO COST TO ENTER YOUR CHILI OR SOUP in the contest.  \nPre-enter by calling ahead of the day 810-622-9961.  \nContest will take place approximately at 4:00 pm. \nAfter the work is done\, we will come inside and taste the amazing chili and soups that you have prepared. Contest winner will receive Dinner for Two at the Course Restaurant. \n  \nSpring Clean Up 2021
URL:https://huronshoresgolfclub.com/event/course-clean-up-and-soup-chili-contest/
LOCATION:Huron Shores Golf Course\, 1441 N Lakeshore Rd\, Pt Sanilac\, MI\, 48469\, United States
ORGANIZER;CN="Sandy and Tom Miller":MAILTO:huronshoresgc@yahoo.com
END:VEVENT
BEGIN:VEVENT
DTSTART;TZID=America/Toronto:20200912T080000
DTEND;TZID=America/Toronto:20200912T170000
DTSTAMP:20260423T193555
CREATED:20200724T135213Z
LAST-MODIFIED:20200724T135530Z
UID:4982-1599897600-1599930000@huronshoresgolfclub.com
SUMMARY:Huron Shores Golf Course Stag Day 2020
DESCRIPTION:  \nSign up for Stag Day on Saturday\, September 12\, 2020 \nRegistration at Noon with TEE OFF 1:00 PM \n$90.00 PER PLAYER \nCart included with entry fee except for Morning Play (additional $15.00) \n                                                      PUT YOUR 6 MAN TEAM TOGETHER (HCP) \n1ST.PLACE $800.00  –  3RD PLACE $500.00  –  5TH PLACE $400.00 \n2ND TO LAST PLACE $300.00  –  BLIND DRAW CARD $300.00 \n50/50 Drawing  –  CLOSEST TO PINS \n*PAY OFF BASED ON 90 PLAYERS* \n9 HOLE SKINS GAME 9:00 AM ($20.00) SEPARATE FROM TOURNAMENT \nSIGN UP SHEET IN HALLWAY OF CLUBHOUSE – TEAM NAME AND PLAYERS WITH HCP. \nSIGN UP AND PAYMENT BY SEPTEMBER 11\, 2020 \nNeed more information – contact Johnny Carter at 810-404-0621 \nDINNER AND PRIZES at 6:00 pm \nMakes Checks Payable to Huron Shores Golf Course \nStag Day Flyer
URL:https://huronshoresgolfclub.com/event/stag-day-2020/
LOCATION:MI
END:VEVENT
BEGIN:VEVENT
DTSTART;TZID=America/Toronto:20200822T120000
DTEND;TZID=America/Toronto:20200822T190000
DTSTAMP:20260423T193555
CREATED:20200724T183454Z
LAST-MODIFIED:20200724T183454Z
UID:4991-1598097600-1598122800@huronshoresgolfclub.com
SUMMARY:Port Sanilac Volunteer Fire Association 4 Person Scramble
DESCRIPTION:2020 Pt Sanilac Fire Outing \nJoin us on Saturday\, August 22\, 2020 for the Port Sanilac Volunteer Fire Association 4 Person Scramble Golf Outing.
URL:https://huronshoresgolfclub.com/event/port-sanilac-volunteer-fire-association-4-person-scramble/
LOCATION:MI
END:VEVENT
BEGIN:VEVENT
DTSTART;VALUE=DATE:20200807
DTEND;VALUE=DATE:20200809
DTSTAMP:20260423T193555
CREATED:20200722T221517Z
LAST-MODIFIED:20200723T000956Z
UID:4958-1596758400-1596931199@huronshoresgolfclub.com
SUMMARY:2 Man Invitational 2020
DESCRIPTION:2 Man Invitational Flyer \nSign up today for Huron Shores Golf Course 2 Man Invitational to be played on Friday\, August 7 and Saturday\, August 8\, 2020.
URL:https://huronshoresgolfclub.com/event/2-man-invitational-2020/
LOCATION:Huron Shores Golf Course\, 1441 N Lakeshore Rd\, Pt Sanilac\, MI\, 48469\, United States
ORGANIZER;CN="Cliff Amey":MAILTO:huronshoresgc@yahoo.com
END:VEVENT
BEGIN:VEVENT
DTSTART;TZID=America/Toronto:20200804T080000
DTEND;TZID=America/Toronto:20200804T153000
DTSTAMP:20260423T193555
CREATED:20200722T222039Z
LAST-MODIFIED:20200722T222039Z
UID:4964-1596528000-1596555000@huronshoresgolfclub.com
SUMMARY:2020 Ladies Invitational
DESCRIPTION:Ladies Invitational 2020 \n  \nSign up now for the 2020 Huron Shores Golf Course Ladies Invitational.  Grab 3 of your friends and sign up to be a part of the fun!!! Golf and good food along with prize money!!! Sign up today.
URL:https://huronshoresgolfclub.com/event/2020-ladies-invitational/
LOCATION:MI
END:VEVENT
BEGIN:VEVENT
DTSTART;TZID=America/Toronto:20200425T120000
DTEND;TZID=America/Toronto:20200425T120000
DTSTAMP:20260423T193555
CREATED:20200303T222537Z
LAST-MODIFIED:20200331T155651Z
UID:4859-1587816000-1587816000@huronshoresgolfclub.com
SUMMARY:CANCELLED -Course Spring Clean Up
DESCRIPTION:CANCELLED – Spring Clean Up and Chili/Soup Cook Off for April 25th 2020 has been cancelled due to the Stay Home Stay Safe Governor’s order. \nDate: Saturday\, April 25\, 2020 \nCome join us as we work together to clean up the course for the season. Clean Up begins at 10 am on Saturday\, April 25\, 2020. Bring your yard tools and gloves (shovels\, rakes\, pruning sheers\, hoes\, trimmers\, etc). We will work beside each other to get things done and ready for the golfing season. Dress for the weather as we will be outside sprucing up and cleaning up the course. Winter is hard on things so we welcome you to join us to make Huron Shores Golf Course beautiful. \nWant to join in the Chili and Soup contest? Make your best recipe and bring it when you arrive so it can simmer all day while we are outside working.  Can’t make the Clean Up Day; just bring in your contest entry Chili or soup for everyone to taste. Not coming to the Spring Clean Up Day but want to enter our soup or chili in the contest – entry is just $5.00 per dish.  Helping during the Spring Clean Up Day – NO COST TO ENTER YOUR CHILI OR SOUP in the contest. All proceeds going to a charity whose name will be drawn during the event. Pre-enter by calling ahead of the day 810-622-9961. Contest will take place approximately at 4:00 pm. \nAfter the work is done\, we will come inside and taste the amazing chili and soups that you have prepared. Contest winner will receive Dinner for Two at the Course Restaurant. \n  \n 
URL:https://huronshoresgolfclub.com/event/course-spring-clean-up-2/
LOCATION:MI
END:VEVENT
END:VCALENDAR