BEGIN:VCALENDAR
VERSION:2.0
PRODID:-//Huron Shores - ECPv6.15.20//NONSGML v1.0//EN
CALSCALE:GREGORIAN
METHOD:PUBLISH
X-ORIGINAL-URL:https://huronshoresgolfclub.com
X-WR-CALDESC:Events for Huron Shores
REFRESH-INTERVAL;VALUE=DURATION:PT1H
X-Robots-Tag:noindex
X-PUBLISHED-TTL:PT1H
BEGIN:VTIMEZONE
TZID:America/Toronto
BEGIN:DAYLIGHT
TZOFFSETFROM:-0500
TZOFFSETTO:-0400
TZNAME:EDT
DTSTART:20240310T070000
END:DAYLIGHT
BEGIN:STANDARD
TZOFFSETFROM:-0400
TZOFFSETTO:-0500
TZNAME:EST
DTSTART:20241103T060000
END:STANDARD
BEGIN:DAYLIGHT
TZOFFSETFROM:-0500
TZOFFSETTO:-0400
TZNAME:EDT
DTSTART:20250309T070000
END:DAYLIGHT
BEGIN:STANDARD
TZOFFSETFROM:-0400
TZOFFSETTO:-0500
TZNAME:EST
DTSTART:20251102T060000
END:STANDARD
BEGIN:DAYLIGHT
TZOFFSETFROM:-0500
TZOFFSETTO:-0400
TZNAME:EDT
DTSTART:20260308T070000
END:DAYLIGHT
BEGIN:STANDARD
TZOFFSETFROM:-0400
TZOFFSETTO:-0500
TZNAME:EST
DTSTART:20261101T060000
END:STANDARD
BEGIN:DAYLIGHT
TZOFFSETFROM:-0500
TZOFFSETTO:-0400
TZNAME:EDT
DTSTART:20270314T070000
END:DAYLIGHT
BEGIN:STANDARD
TZOFFSETFROM:-0400
TZOFFSETTO:-0500
TZNAME:EST
DTSTART:20271107T060000
END:STANDARD
BEGIN:DAYLIGHT
TZOFFSETFROM:-0500
TZOFFSETTO:-0400
TZNAME:EDT
DTSTART:20280312T070000
END:DAYLIGHT
BEGIN:STANDARD
TZOFFSETFROM:-0400
TZOFFSETTO:-0500
TZNAME:EST
DTSTART:20281105T060000
END:STANDARD
END:VTIMEZONE
BEGIN:VEVENT
DTSTART;TZID=America/Toronto:20250905T080000
DTEND;TZID=America/Toronto:20250905T190000
DTSTAMP:20260425T093953
CREATED:20250324T205404Z
LAST-MODIFIED:20250502T193913Z
UID:6260-1757059200-1757098800@huronshoresgolfclub.com
SUMMARY:Aspire Foundation Golf Tournament
DESCRIPTION:The Aspire Rural Health System Foundation is excited to invite you to the 2025 Annual Golf Outing\, taking place on Friday\, September 5th. \nSecure your spot\, please return the completed forms with payment as soon as possible. Registration fills quickly.\n Deadline for registration and sponsorships: Wednesday\, August 20\, 2025.\n  \nContributions are tax-deductible per IRS guidelines. This year’s outing will support three impactful projects: \n1. Aspire Deckerville Community Hospital – Parking Lot Expansion We’re adding 18\,600 square feet of parking space to improve accessibility for patients and visitors\, enhancing convenience and safety at the hospital’s front entrance. \n2. Aspire Hills & Dales Healthcare – Inpatient Room Renovation We aim to renovate the remaining 12 inpatient rooms on the second floor that were not updated during the 2017 expansion. These updates will ensure all patients receive care in modern\, private\, and comfortable rooms designed to promote healing and well-being. \n3. Aspire Marlette Regional Hospital – New Ambulance Initiative This vital\, life-saving vehicle will replace an aging unit\, ensuring faster response times\, better patient care\, and increased reliability when every second counts. The new ambulance will be fully equipped with the latest life-support technology\, including a cardiac monitor\, defibrillator\, oxygen delivery system\, and enhanced safety features designed for both patients and paramedics. Built for durability and efficiency\, this advanced vehicle will enable our EMS teams to respond to thousands of emergencies and save countless lives. \nYour generous support will directly contribute to the purchase\, outfitting\, and long-term sustainability of this essential emergency resource. Deckerville Community Hospital | Hills & Dales Healthcare | Marlette Regional Hos \nRaffle Tickets Are Back!\nThe Aspire Rural Health System Foundation is also bringing back the popular Golf Raffle Tickets\, now available for pre-sale! • $20 per ticket • Only 2\,500 tickets available • One Grand Prize Winner will be drawn (50% of total ticket sales\, up to $25\,000) • Proceeds will directly support the three projects listed above\nTo purchase tickets\, please contact: • Brooke Mallory: bmallory@aspirerhs.org • Stephanie Langenburg: slangenburg@aspirerhs.org\n  \n\n  \n  \n 
URL:https://huronshoresgolfclub.com/event/aspire-foundation-golf-tournament/
ATTACH;FMTTYPE=image/jpeg:https://huronshoresgolfclub.com/wp-content/uploads/2025/03/Aspire-Health-Logo.jpg
END:VEVENT
BEGIN:VEVENT
DTSTART;VALUE=DATE:20250906
DTEND;VALUE=DATE:20250907
DTSTAMP:20260425T093954
CREATED:20240208T155531Z
LAST-MODIFIED:20250805T154434Z
UID:5780-1757116800-1757203199@huronshoresgolfclub.com
SUMMARY:STAG Day
DESCRIPTION:  \nMark your calendar and get your team ready for Huron Shores Golf Club Annual Stag Day. \n6 Man Team with a Shotgun Start at 1 PM \n  \n9 Hole SKINS GAME @ 9:00 AM Separate from the Tournament \nIf you need mor information or if you cannot come up with enough players call Johnny @ 810.404.0621 and he can match you up with a team. \n\n 
URL:https://huronshoresgolfclub.com/event/stag-day-3/
ATTACH;FMTTYPE=image/png:https://huronshoresgolfclub.com/wp-content/uploads/2023/07/stag-2.png
END:VEVENT
BEGIN:VEVENT
DTSTART;TZID=America/Toronto:20250914T100000
DTEND;TZID=America/Toronto:20250914T170000
DTSTAMP:20260425T093954
CREATED:20250820T184737Z
LAST-MODIFIED:20250820T184737Z
UID:6330-1757844000-1757869200@huronshoresgolfclub.com
SUMMARY:100th Anniversary Celebration
DESCRIPTION:Join us as we tee off a century of memories at Huron Shores Golf Club 100th Anniversary Golf Tournament and Celebration \non Sunday\, September 14.  Shotgun start at 10 AM \nRegistration and payment deadline is September 7th. \n 
URL:https://huronshoresgolfclub.com/event/100th-anniversary-celebration/
END:VEVENT
BEGIN:VEVENT
DTSTART;TZID=America/Toronto:20251004T100000
DTEND;TZID=America/Toronto:20251004T170000
DTSTAMP:20260425T093954
CREATED:20240824T133056Z
LAST-MODIFIED:20250825T153216Z
UID:5981-1759572000-1759597200@huronshoresgolfclub.com
SUMMARY:CHILLY OPEN
DESCRIPTION:  \n 
URL:https://huronshoresgolfclub.com/event/chilly-open-2/
ATTACH;FMTTYPE=image/png:https://huronshoresgolfclub.com/wp-content/uploads/2023/10/Gladiators_Wear_Pink_Logo_Color.png
END:VEVENT
BEGIN:VEVENT
DTSTART;TZID=America/Toronto:20251103T070000
DTEND;TZID=America/Toronto:20260331T170000
DTSTAMP:20260425T093954
CREATED:20251013T185329Z
LAST-MODIFIED:20251013T185329Z
UID:6359-1762153200-1774976400@huronshoresgolfclub.com
SUMMARY:Closed for the Season
DESCRIPTION:
URL:https://huronshoresgolfclub.com/event/closed-for-the-season/
END:VEVENT
BEGIN:VEVENT
DTSTART;TZID=America/Toronto:20260509T120000
DTEND;TZID=America/Toronto:20260509T190000
DTSTAMP:20260425T093954
CREATED:20260306T191007Z
LAST-MODIFIED:20260320T135515Z
UID:6529-1778328000-1778353200@huronshoresgolfclub.com
SUMMARY:Port Sanilac Volunteer Fire Association
DESCRIPTION:  \nThe annual Port Sanilac Volunteer Firefighter Association Golf Scramble is a great day of golf\, community\, and support for the local heroes who keep the community safe\, helping raise funds for essential equipment\, training\, and community outreach. \nRegistration begins at 12 pm.  Shotgun start at 1 pm. \nEntry Fee due April 30\, 2026 to Lori Moran. \n4 person Scramble – $75.00 per person \nHot dog and water at turn and post-round awards meal included. \n  \n  \n  \n  \n  \n 
URL:https://huronshoresgolfclub.com/event/port-sanilac-volunteer-fire-association-2/
CATEGORIES:#Fundraiser,#GolfScramble
ATTACH;FMTTYPE=image/png:https://huronshoresgolfclub.com/wp-content/uploads/2024/03/Screenshot-2024-03-14-111743-e1774014857122.png
END:VEVENT
BEGIN:VEVENT
DTSTART;TZID=America/Toronto:20260515T080000
DTEND;TZID=America/Toronto:20260515T120000
DTSTAMP:20260425T093954
CREATED:20260319T145432Z
LAST-MODIFIED:20260319T145531Z
UID:6580-1778832000-1778846400@huronshoresgolfclub.com
SUMMARY:Duffer's League Starts
DESCRIPTION:2026 Duffer’s Golf League Flyer \n  \nLeague play begins Friday\, May 15th \nSign-in at 8:00 AM \nShotgun Start at 8:30 AM \nOpen to all who want to play! Must\nconfirm attendance by Wednesday of\neach week for scheduling of tee\ntimes. \nContact: Brad Yocca \nCell: 248-210-3064 \nEmail: byocca@sbcglobal.net
URL:https://huronshoresgolfclub.com/event/duffers-league/
CATEGORIES:#LeagueGolf
ATTACH;FMTTYPE=image/jpeg:https://huronshoresgolfclub.com/wp-content/uploads/2024/02/Duffer-ball.jpg
END:VEVENT
BEGIN:VEVENT
DTSTART;TZID=America/Toronto:20260516T120000
DTEND;TZID=America/Toronto:20260516T190000
DTSTAMP:20260425T093954
CREATED:20240207T174607Z
LAST-MODIFIED:20260306T191224Z
UID:5763-1778932800-1778958000@huronshoresgolfclub.com
SUMMARY:CPS Football Scramble
DESCRIPTION:Mark your calendar and get your team ready. \n  \n 
URL:https://huronshoresgolfclub.com/event/cps-football-scramble-2/
CATEGORIES:#Fundraiser,#GolfScramble
ATTACH;FMTTYPE=image/jpeg:https://huronshoresgolfclub.com/wp-content/uploads/2022/02/download-2.jpg
END:VEVENT
BEGIN:VEVENT
DTSTART;TZID=America/Toronto:20260606T083000
DTEND;TZID=America/Toronto:20260606T180000
DTSTAMP:20260425T093954
CREATED:20260306T191805Z
LAST-MODIFIED:20260306T191805Z
UID:6542-1780734600-1780768800@huronshoresgolfclub.com
SUMMARY:Carsonville Lions Scramble
DESCRIPTION:  \nMark your calendar and get your team ready for the 24nd Annual 4-Person Scramble. \n 
URL:https://huronshoresgolfclub.com/event/carsonville-lions-scramble-2/
CATEGORIES:#GolfScramble
ATTACH;FMTTYPE=image/jpeg:https://huronshoresgolfclub.com/wp-content/uploads/2022/03/download-1.jpg
END:VEVENT
BEGIN:VEVENT
DTSTART;VALUE=DATE:20260912
DTEND;VALUE=DATE:20260913
DTSTAMP:20260425T093954
CREATED:20260306T191548Z
LAST-MODIFIED:20260306T191548Z
UID:6538-1789171200-1789257599@huronshoresgolfclub.com
SUMMARY:STAG Day
DESCRIPTION:  \nMark your calendar and get your team ready for Huron Shores Golf Club Annual Stag Day. \n  \n 
URL:https://huronshoresgolfclub.com/event/stag-day-3-2/
CATEGORIES:#GolfScramble
ATTACH;FMTTYPE=image/png:https://huronshoresgolfclub.com/wp-content/uploads/2023/07/stag-2.png
END:VEVENT
BEGIN:VEVENT
DTSTART;TZID=America/Toronto:20261003T080000
DTEND;TZID=America/Toronto:20270502T170000
DTSTAMP:20260425T093954
CREATED:20260306T190714Z
LAST-MODIFIED:20260306T191256Z
UID:6525-1791014400-1809277200@huronshoresgolfclub.com
SUMMARY:Chilly Open
DESCRIPTION:Save the Date.  More details to come.
URL:https://huronshoresgolfclub.com/event/chilly-open-3/
CATEGORIES:#Fundraiser,#GolfScramble
ATTACH;FMTTYPE=image/png:https://huronshoresgolfclub.com/wp-content/uploads/2023/10/Gladiators_Wear_Pink_Logo_Color.png
END:VEVENT
END:VCALENDAR