BEGIN:VCALENDAR
VERSION:2.0
PRODID:-//Huron Shores - ECPv6.15.20//NONSGML v1.0//EN
CALSCALE:GREGORIAN
METHOD:PUBLISH
X-ORIGINAL-URL:https://huronshoresgolfclub.com
X-WR-CALDESC:Events for Huron Shores
REFRESH-INTERVAL;VALUE=DURATION:PT1H
X-Robots-Tag:noindex
X-PUBLISHED-TTL:PT1H
BEGIN:VTIMEZONE
TZID:America/Toronto
BEGIN:DAYLIGHT
TZOFFSETFROM:-0500
TZOFFSETTO:-0400
TZNAME:EDT
DTSTART:20220313T070000
END:DAYLIGHT
BEGIN:STANDARD
TZOFFSETFROM:-0400
TZOFFSETTO:-0500
TZNAME:EST
DTSTART:20221106T060000
END:STANDARD
BEGIN:DAYLIGHT
TZOFFSETFROM:-0500
TZOFFSETTO:-0400
TZNAME:EDT
DTSTART:20230312T070000
END:DAYLIGHT
BEGIN:STANDARD
TZOFFSETFROM:-0400
TZOFFSETTO:-0500
TZNAME:EST
DTSTART:20231105T060000
END:STANDARD
BEGIN:DAYLIGHT
TZOFFSETFROM:-0500
TZOFFSETTO:-0400
TZNAME:EDT
DTSTART:20240310T070000
END:DAYLIGHT
BEGIN:STANDARD
TZOFFSETFROM:-0400
TZOFFSETTO:-0500
TZNAME:EST
DTSTART:20241103T060000
END:STANDARD
BEGIN:DAYLIGHT
TZOFFSETFROM:-0500
TZOFFSETTO:-0400
TZNAME:EDT
DTSTART:20250309T070000
END:DAYLIGHT
BEGIN:STANDARD
TZOFFSETFROM:-0400
TZOFFSETTO:-0500
TZNAME:EST
DTSTART:20251102T060000
END:STANDARD
BEGIN:DAYLIGHT
TZOFFSETFROM:-0500
TZOFFSETTO:-0400
TZNAME:EDT
DTSTART:20260308T070000
END:DAYLIGHT
BEGIN:STANDARD
TZOFFSETFROM:-0400
TZOFFSETTO:-0500
TZNAME:EST
DTSTART:20261101T060000
END:STANDARD
END:VTIMEZONE
BEGIN:VEVENT
DTSTART;TZID=America/Toronto:20250808T130000
DTEND;TZID=America/Toronto:20250809T170000
DTSTAMP:20260423T163416
CREATED:20240208T155434Z
LAST-MODIFIED:20250708T193601Z
UID:5777-1754658000-1754758800@huronshoresgolfclub.com
SUMMARY:2 Man Invitational
DESCRIPTION:Huron Shores Golf Club’s Annual \nFlighted 2-Person 36 Hole Scramble is set for \nAugust 8th & 9th\, 2025 \nClosest to the Pin\, Skins\, Raffles and more!! \nRegistration Due by August 1st.  \nFriday Shotgun start at 1 pm\nSaturday shotgun start at 9am
URL:https://huronshoresgolfclub.com/event/2-man-invitational-3/
CATEGORIES:#Dinner,#MensGolf
ATTACH;FMTTYPE=image/png:https://huronshoresgolfclub.com/wp-content/uploads/2022/05/Screenshot-2022-06-28-113623.png
END:VEVENT
BEGIN:VEVENT
DTSTART;TZID=America/Toronto:20230811T080000
DTEND;TZID=America/Toronto:20230812T190000
DTSTAMP:20260423T163416
CREATED:20230130T150540Z
LAST-MODIFIED:20230710T130921Z
UID:5475-1691740800-1691866800@huronshoresgolfclub.com
SUMMARY:2 Man Invitational
DESCRIPTION:This event is Huron Shores Golf Club Flagship Annual 2 Day Event. \nFlighted 2-person 36 Hole Scramble \nFriday Morning Flight – 8 am shotgun start \nFriday Afternoon Flight – 1 pm shotgun start \nLight lunch available each day. \n  \n2 Man Invitational Flyer \n 
URL:https://huronshoresgolfclub.com/event/2-man-invitational-2/
LOCATION:Huron Shores Golf Course\, 1441 N Lakeshore Rd\, Pt Sanilac\, MI\, 48469\, United States
CATEGORIES:#MensGolf
ATTACH;FMTTYPE=image/png:https://huronshoresgolfclub.com/wp-content/uploads/2022/05/Screenshot-2022-06-28-113623.png
END:VEVENT
BEGIN:VEVENT
DTSTART;TZID=America/Toronto:20230512T080000
DTEND;TZID=America/Toronto:20230512T120000
DTSTAMP:20260423T163416
CREATED:20230118T164947Z
LAST-MODIFIED:20230118T171436Z
UID:5443-1683878400-1683892800@huronshoresgolfclub.com
SUMMARY:Duffer's Friday Morning Golf League
DESCRIPTION:League Play Friday Mornings\, May 12th – August 25th\, for the 2023 golf season. \nSign-in begins at 8 AM \nPlease Contact Brad Yocca at (248) 210-3064 or via email at byocca@sbcglobal.net with any questions. \n  \n  \nDuffer-Golf-League-Brochure \n  \n  \n  \n 
URL:https://huronshoresgolfclub.com/event/duffers-friday-morning-golf-league/
CATEGORIES:#LeagueGolf,#MensGolf,#SeniorGolf
ATTACH;FMTTYPE=image/jpeg:https://huronshoresgolfclub.com/wp-content/uploads/2023/01/images.jpg
END:VEVENT
END:VCALENDAR